BEGIN:VCALENDAR
VERSION:2.0
PRODID:icalendar-ruby
CALSCALE:GREGORIAN
BEGIN:VEVENT
DTSTAMP:20210122T063649Z
UID:87263d86-0b1d-4d27-935b-c2d85dc8c0be
DTSTART;VALUE=DATE:20200213
DESCRIPTION:Property ID# 458579\, Locatoin: 50 Remuera Road\, Remuera\, Tim
 e: 10:00AM
SUMMARY:Auction for 
END:VEVENT
END:VCALENDAR
