BEGIN:VCALENDAR
VERSION:2.0
PRODID:icalendar-ruby
CALSCALE:GREGORIAN
BEGIN:VEVENT
DTSTAMP:20210122T063431Z
UID:3feab06c-5b7a-48b2-808d-d81ea051d1ca
DTSTART;VALUE=DATE:20190911
DESCRIPTION:Property ID# 459969\, Time: 12:00PM
SUMMARY:Auction for 
END:VEVENT
END:VCALENDAR
