BEGIN:VCALENDAR
VERSION:2.0
PRODID:icalendar-ruby
CALSCALE:GREGORIAN
BEGIN:VEVENT
DTSTAMP:20210122T063344Z
UID:56ec4f79-c093-4dfd-b0ed-2c566de6ef12
DTSTART;VALUE=DATE:20190919
DESCRIPTION:Property ID# 460502\, Locatoin: 2 LORNE STREET\, AUCKLAND CENTR
 AL \, Time: 12:30PM
SUMMARY:Auction for 
END:VEVENT
END:VCALENDAR
