BEGIN:VCALENDAR
VERSION:2.0
PRODID:icalendar-ruby
CALSCALE:GREGORIAN
BEGIN:VEVENT
DTSTAMP:20210122T063341Z
UID:533b26d5-6312-46a5-bca4-00e47baf36ad
DTSTART;VALUE=DATE:20191024
DESCRIPTION:Property ID# 463415\, Locatoin: 2 LORNE STREET\, AUCKLAND CENTR
 AL \, Time: 12:30PM
SUMMARY:Auction for 
END:VEVENT
END:VCALENDAR
