BEGIN:VCALENDAR
VERSION:2.0
PRODID:icalendar-ruby
CALSCALE:GREGORIAN
BEGIN:VEVENT
DTSTAMP:20210122T063429Z
UID:396fb232-29ad-4a9c-bbb3-adfb4bb9f0df
DTSTART;VALUE=DATE:20191022
DESCRIPTION:Property ID# 463561\, Locatoin: Deadline Treaty  4:00pm  22 Oct
 ober 2019 - Unless sold prior\, Time: 12:00PM
SUMMARY:Auction for 
END:VEVENT
END:VCALENDAR
