BEGIN:VCALENDAR
VERSION:2.0
PRODID:icalendar-ruby
CALSCALE:GREGORIAN
BEGIN:VEVENT
DTSTAMP:20210122T063339Z
UID:fac5719b-346d-4e22-9988-d5ba352c3705
DTSTART;VALUE=DATE:20191121
DESCRIPTION:Property ID# 464366\, Locatoin: 2 LORNE STREET\, AUCKLAND CENTR
 AL \, Time: 12:30PM
SUMMARY:Auction for 
END:VEVENT
END:VCALENDAR
