BEGIN:VCALENDAR
VERSION:2.0
PRODID:icalendar-ruby
CALSCALE:GREGORIAN
BEGIN:VEVENT
DTSTAMP:20210122T063652Z
UID:62ac81a4-c63b-4cb4-a76b-baf90ae72737
DTSTART;VALUE=DATE:20191023
DESCRIPTION:Property ID# 464522\, Locatoin: 778 Manukau Road\, Royal Oak\, 
 1023\, Time: 12:00PM
SUMMARY:Auction for 
END:VEVENT
END:VCALENDAR
