BEGIN:VCALENDAR
VERSION:2.0
PRODID:icalendar-ruby
CALSCALE:GREGORIAN
BEGIN:VEVENT
DTSTAMP:20210122T063350Z
UID:11425fa5-6100-49ee-b965-d6f0d9649f88
DTSTART;VALUE=DATE:20191128
DESCRIPTION:Property ID# 465521\, Locatoin: Harcourts Cooper & Co Estate Lt
 d\, 128 Hurstmere Road\, Takapuna 0622\, Time: 6:30PM
SUMMARY:Auction for 
END:VEVENT
END:VCALENDAR
