BEGIN:VCALENDAR
VERSION:2.0
PRODID:icalendar-ruby
CALSCALE:GREGORIAN
BEGIN:VEVENT
DTSTAMP:20210122T063413Z
UID:02beb184-b1d1-4dac-8809-ae37cf1fa3be
DTSTART;VALUE=DATE:20191127
DESCRIPTION:Property ID# 465666\, Locatoin: 778 Manukau Road Royal Oak\, Ti
 me: 6:00PM
SUMMARY:Auction for 
END:VEVENT
END:VCALENDAR
