BEGIN:VCALENDAR
VERSION:2.0
PRODID:icalendar-ruby
CALSCALE:GREGORIAN
BEGIN:VEVENT
DTSTAMP:20210122T064001Z
UID:b06a7209-7a01-41fc-8ca6-c981070adacc
DTSTART;VALUE=DATE:20191211
DESCRIPTION:Property ID# 466932\, Locatoin: 778 Manukau Road\, Royal Oak (u
 nless sold prior)\, Time: 4:00PM
SUMMARY:Auction for 
END:VEVENT
END:VCALENDAR
