BEGIN:VCALENDAR
VERSION:2.0
PRODID:icalendar-ruby
CALSCALE:GREGORIAN
BEGIN:VEVENT
DTSTAMP:20210122T063428Z
UID:c67df58e-c043-4bf0-a9dd-5e10a918fd96
DTSTART;VALUE=DATE:20200226
DESCRIPTION:Property ID# 471681\, Locatoin: Offers close 4:00 pm - Unless s
 old prior\, Time: 4:00PM
SUMMARY:Auction for 
END:VEVENT
END:VCALENDAR
