BEGIN:VCALENDAR
VERSION:2.0
PRODID:icalendar-ruby
CALSCALE:GREGORIAN
BEGIN:VEVENT
DTSTAMP:20210122T063338Z
UID:80b17616-88cc-4f56-b1bd-794970ef8a38
DTSTART;VALUE=DATE:20200227
DESCRIPTION:Property ID# 471969\, Locatoin: 2 LORNE STREET\, AUCKLAND CENTR
 AL \, Time: 12:30PM
SUMMARY:Auction for 
END:VEVENT
END:VCALENDAR
