BEGIN:VCALENDAR
VERSION:2.0
PRODID:icalendar-ruby
CALSCALE:GREGORIAN
BEGIN:VEVENT
DTSTAMP:20210122T064000Z
UID:bfaec59c-b778-4165-a824-db9744e4367d
DTSTART;VALUE=DATE:20200304
DESCRIPTION:Property ID# 472716\, Locatoin: 778 Manukau Road\, Royal Oak (U
 nless Sold Prior)\, Time: 6:00PM
SUMMARY:Auction for 
END:VEVENT
END:VCALENDAR
