BEGIN:VCALENDAR
VERSION:2.0
PRODID:icalendar-ruby
CALSCALE:GREGORIAN
BEGIN:VEVENT
DTSTAMP:20210122T064003Z
UID:ff820d41-29dd-4c92-9117-f7effeacb20c
DTSTART;VALUE=DATE:20200331
DESCRIPTION:Property ID# 474359\, Locatoin: 778 Manukau Road\, Royal Oak\, 
 1023\, Time: 5:00PM
SUMMARY:Auction for 
END:VEVENT
END:VCALENDAR
