BEGIN:VCALENDAR
VERSION:2.0
PRODID:icalendar-ruby
CALSCALE:GREGORIAN
BEGIN:VEVENT
DTSTAMP:20210122T063336Z
UID:b72a9136-41c2-4417-94dd-cb11d14a3b03
DTSTART;VALUE=DATE:20200521
DESCRIPTION:Property ID# 475591\, Locatoin: 2 LORNE STREET\, AUCKLAND CENTR
 AL \, Time: 12:30PM
SUMMARY:Auction for 
END:VEVENT
END:VCALENDAR
