BEGIN:VCALENDAR
VERSION:2.0
PRODID:icalendar-ruby
CALSCALE:GREGORIAN
BEGIN:VEVENT
DTSTAMP:20210122T063958Z
UID:b3e18960-5c38-48b0-a19a-cd1328c719f0
DTSTART;VALUE=DATE:20200603
DESCRIPTION:Property ID# 477464\, Locatoin: 778 Manukau Road\, Royal Oak (u
 nless sold prior)\, Time: 12:00PM
SUMMARY:Auction for 
END:VEVENT
END:VCALENDAR
