BEGIN:VCALENDAR
VERSION:2.0
PRODID:icalendar-ruby
CALSCALE:GREGORIAN
BEGIN:VEVENT
DTSTAMP:20210122T063410Z
UID:bb69a0f7-2e25-4f0e-a9fd-e917108e0e1c
DTSTART;VALUE=DATE:20200608
DESCRIPTION:Property ID# 481052\, Locatoin: 778 Manukau Road Royal Oak\, Ti
 me: 3:00PM
SUMMARY:Auction for 
END:VEVENT
END:VCALENDAR
