BEGIN:VCALENDAR
VERSION:2.0
PRODID:icalendar-ruby
CALSCALE:GREGORIAN
BEGIN:VEVENT
DTSTAMP:20210122T063646Z
UID:b8881308-cb4f-45d2-9bdb-f45f702ed9c3
DTSTART;VALUE=DATE:20200708
DESCRIPTION:Property ID# 482294\, Locatoin: 778 Manukau Road\, Royal Oak (u
 nless sold prior)\, Time: 6:00PM
SUMMARY:Auction for 
END:VEVENT
END:VCALENDAR
