BEGIN:VCALENDAR
VERSION:2.0
PRODID:icalendar-ruby
CALSCALE:GREGORIAN
BEGIN:VEVENT
DTSTAMP:20210122T063957Z
UID:741f3091-0d1d-4de0-8ef5-bc44a9ab9848
DTSTART;VALUE=DATE:20200715
DESCRIPTION:Property ID# 483697\, Locatoin: 778 Manukau Road\, Royal Oak (u
 nless sold prior)\, Time: 12:00AM
SUMMARY:Auction for 
END:VEVENT
END:VCALENDAR
