BEGIN:VCALENDAR
VERSION:2.0
PRODID:icalendar-ruby
CALSCALE:GREGORIAN
BEGIN:VEVENT
DTSTAMP:20210122T063335Z
UID:babd0d9d-13c1-4c93-ba77-09e028796ff2
DTSTART;VALUE=DATE:20200723
DESCRIPTION:Property ID# 483949\, Locatoin: 2 LORNE STREET\, AUCKLAND CENTR
 AL \, Time: 12:00PM
SUMMARY:Auction for 
END:VEVENT
END:VCALENDAR
