BEGIN:VCALENDAR
VERSION:2.0
PRODID:icalendar-ruby
CALSCALE:GREGORIAN
BEGIN:VEVENT
DTSTAMP:20210122T063408Z
UID:b2d3166b-de5d-4379-9177-099b32e65409
DTSTART;VALUE=DATE:20200720
DESCRIPTION:Property ID# 484592\, Locatoin: 778 Manukau Road Royal Oak\, Ti
 me: 4:00PM
SUMMARY:Auction for 
END:VEVENT
END:VCALENDAR
