BEGIN:VCALENDAR
VERSION:2.0
PRODID:icalendar-ruby
CALSCALE:GREGORIAN
BEGIN:VEVENT
DTSTAMP:20210122T063333Z
UID:954e38d3-bd86-4bb0-aa31-be629e2acab8
DTSTART;VALUE=DATE:20200806
DESCRIPTION:Property ID# 484944\, Locatoin: 2 lorne street Auckland Central
 \, Time: 12:30PM
SUMMARY:Auction for 
END:VEVENT
END:VCALENDAR
