BEGIN:VCALENDAR
VERSION:2.0
PRODID:icalendar-ruby
CALSCALE:GREGORIAN
BEGIN:VEVENT
DTSTAMP:20210122T063332Z
UID:5a5cd7b9-4aad-4e2d-892b-b006d22dbc2d
DTSTART;VALUE=DATE:20200813
DESCRIPTION:Property ID# 485517\, Locatoin: 2 LORNE STREET\, AUCKLAND CENTR
 AL \, Time: 12:30PM
SUMMARY:Auction for 
END:VEVENT
END:VCALENDAR
