BEGIN:VCALENDAR
VERSION:2.0
PRODID:icalendar-ruby
CALSCALE:GREGORIAN
BEGIN:VEVENT
DTSTAMP:20210122T063401Z
UID:0f0c29e1-9725-4310-b15b-670c9eaee6de
DTSTART;VALUE=DATE:20201011
DESCRIPTION:Property ID# 487039\, Locatoin: On site\, Time: 1:00PM
SUMMARY:Auction for 
END:VEVENT
END:VCALENDAR
