BEGIN:VCALENDAR
VERSION:2.0
PRODID:icalendar-ruby
CALSCALE:GREGORIAN
BEGIN:VEVENT
DTSTAMP:20210122T063406Z
UID:e9f75ab3-a94f-4bed-b81a-3d5d432c86a6
DTSTART;VALUE=DATE:20200916
DESCRIPTION:Property ID# 487144\, Locatoin: 778 Manukau Road Royal Oak\, Ti
 me: 6:00PM
SUMMARY:Auction for 
END:VEVENT
END:VCALENDAR
