BEGIN:VCALENDAR
VERSION:2.0
PRODID:icalendar-ruby
CALSCALE:GREGORIAN
BEGIN:VEVENT
DTSTAMP:20210122T063404Z
UID:46c4410e-60af-4c1b-9ad3-c73aefe5aff5
DTSTART;VALUE=DATE:20200907
DESCRIPTION:Property ID# 488845\, Locatoin: 778 Manukau Road Royal Oak\, Ti
 me: 3:00PM
SUMMARY:Auction for 
END:VEVENT
END:VCALENDAR
