BEGIN:VCALENDAR
VERSION:2.0
PRODID:icalendar-ruby
CALSCALE:GREGORIAN
BEGIN:VEVENT
DTSTAMP:20210122T063426Z
UID:8c251266-3306-4e30-9279-3c9d8ecefb52
DTSTART;VALUE=DATE:20200930
DESCRIPTION:Property ID# 489303\, Locatoin: Offers close 4:00 pm unless sol
 d prior\, Time: 12:00PM
SUMMARY:Auction for 
END:VEVENT
END:VCALENDAR
