BEGIN:VCALENDAR
VERSION:2.0
PRODID:icalendar-ruby
CALSCALE:GREGORIAN
BEGIN:VEVENT
DTSTAMP:20210122T063642Z
UID:714fe7e3-15d1-4f55-bfd9-27d587a01c97
DTSTART;VALUE=DATE:20200923
DESCRIPTION:Property ID# 489304\, Locatoin: 778 Manukau Road\, Royal Oak\, 
 Auckland\, Time: 12:00PM
SUMMARY:Auction for 
END:VEVENT
END:VCALENDAR
