BEGIN:VCALENDAR
VERSION:2.0
PRODID:icalendar-ruby
CALSCALE:GREGORIAN
BEGIN:VEVENT
DTSTAMP:20210122T063330Z
UID:090ba532-e8d0-4b25-8125-9f3bcb400b07
DTSTART;VALUE=DATE:20201008
DESCRIPTION:Property ID# 490153\, Locatoin: 2 LORNE STREET\, AUCKLAND CENTR
 AL \, Time: 12:30PM
SUMMARY:Auction for 
END:VEVENT
END:VCALENDAR
