BEGIN:VCALENDAR
VERSION:2.0
PRODID:icalendar-ruby
CALSCALE:GREGORIAN
BEGIN:VEVENT
DTSTAMP:20210122T063640Z
UID:3c2c9c57-8906-4590-8221-30c36b017daa
DTSTART;VALUE=DATE:20201030
DESCRIPTION:Property ID# 492519\, Locatoin: 50 Remuera Road\, Time: 2:00PM
SUMMARY:Auction for 
END:VEVENT
END:VCALENDAR
