BEGIN:VCALENDAR
VERSION:2.0
PRODID:icalendar-ruby
CALSCALE:GREGORIAN
BEGIN:VEVENT
DTSTAMP:20210122T063358Z
UID:3767a760-c6d3-4d3b-af6b-56defea4aa42
DTSTART;VALUE=DATE:20201118
DESCRIPTION:Property ID# 493542\, Locatoin: 778 Manukau Road\, Royal Oak (u
 nless sold prior)\, Time: 6:00PM
SUMMARY:Auction for 
END:VEVENT
END:VCALENDAR
