BEGIN:VCALENDAR
VERSION:2.0
PRODID:icalendar-ruby
CALSCALE:GREGORIAN
BEGIN:VEVENT
DTSTAMP:20210122T063329Z
UID:bf6b1c11-d7a8-48fd-927b-9d1e002797d2
DTSTART;VALUE=DATE:20201119
DESCRIPTION:Property ID# 493875\, Time: 12:30PM
SUMMARY:Auction for 
END:VEVENT
END:VCALENDAR
