BEGIN:VCALENDAR
VERSION:2.0
PRODID:icalendar-ruby
CALSCALE:GREGORIAN
BEGIN:VEVENT
DTSTAMP:20210122T063356Z
UID:91ef980a-0a03-47d6-8a2b-f2623eb0641a
DTSTART;VALUE=DATE:20201125
DESCRIPTION:Property ID# 494264\, Locatoin: 778 Manukau Road Royal Oak\, Ti
 me: 6:00PM
SUMMARY:Auction for 
END:VEVENT
END:VCALENDAR
