BEGIN:VCALENDAR
VERSION:2.0
PRODID:icalendar-ruby
CALSCALE:GREGORIAN
BEGIN:VEVENT
DTSTAMP:20210122T063326Z
UID:4d744c94-932c-484f-abc0-bcac3c2ac00e
DTSTART;VALUE=DATE:20201126
DESCRIPTION:Property ID# 494294\, Time: 12:30PM
SUMMARY:Auction for 
END:VEVENT
END:VCALENDAR
