BEGIN:VCALENDAR
VERSION:2.0
PRODID:icalendar-ruby
CALSCALE:GREGORIAN
BEGIN:VEVENT
DTSTAMP:20210122T063355Z
UID:8eb23f32-a571-4535-ae91-dec16086e96a
DTSTART;VALUE=DATE:20201202
DESCRIPTION:Property ID# 495141\, Locatoin: 778 Manukau Road\, Royal Oak (u
 nless sold prior)\, Time: 6:00PM
SUMMARY:Auction for 
END:VEVENT
END:VCALENDAR
