BEGIN:VCALENDAR
VERSION:2.0
PRODID:icalendar-ruby
CALSCALE:GREGORIAN
BEGIN:VEVENT
DTSTAMP:20210122T063352Z
UID:bf90c95b-3427-4c77-8b4d-f832044ec650
DTSTART;VALUE=DATE:20201209
DESCRIPTION:Property ID# 497563\, Locatoin: 778 Manukau Rd\, Time: 12:00PM
SUMMARY:Auction for 
END:VEVENT
END:VCALENDAR
