BEGIN:VCALENDAR
VERSION:2.0
PRODID:icalendar-ruby
CALSCALE:GREGORIAN
BEGIN:VEVENT
DTSTAMP:20210122T062636Z
UID:1d705a3e-6f8b-46bc-a8f1-f5b6bf4f5557
DTSTART;VALUE=DATE:20210211
DESCRIPTION:Property ID# 498813\, Locatoin: 2 Lorne Street AUCKLAND CENTRAL
  \, Time: 12:00PM
SUMMARY:Auction for 416/10 Ronayne street
END:VEVENT
END:VCALENDAR
