BEGIN:VCALENDAR
VERSION:2.0
PRODID:icalendar-ruby
CALSCALE:GREGORIAN
BEGIN:VEVENT
DTSTAMP:20210122T062640Z
UID:179d47a9-6b3f-4138-92b5-aa116fd411e8
DTSTART;VALUE=DATE:20210211
DESCRIPTION:Property ID# 498814\, Locatoin: 2 Lorne Street AUCKLAND CENTRAL
  \, Time: 12:30PM
SUMMARY:Auction for 505/10 Ronayne Street
END:VEVENT
END:VCALENDAR
