BEGIN:VCALENDAR
VERSION:2.0
PRODID:icalendar-ruby
CALSCALE:GREGORIAN
BEGIN:VEVENT
DTSTAMP:20210122T063349Z
UID:75741868-709d-4481-9282-16fdd0846b5d
DTSTART;VALUE=DATE:20210211
DESCRIPTION:Property ID# 499518\, Locatoin: IN-Rooms\, 128 Hurstmere Road\,
  Takapuna\, Time: 6:30PM
SUMMARY:Auction for 
END:VEVENT
END:VCALENDAR
