BEGIN:VCALENDAR
VERSION:2.0
PRODID:icalendar-ruby
CALSCALE:GREGORIAN
BEGIN:VEVENT
DTSTAMP:20210122T063346Z
UID:fc0cd61f-2595-4f65-8c90-05b5b097b85c
DTSTART;TZID=Pacific/Auckland:20210123T123000
DTEND;TZID=Pacific/Auckland:20210123T131500
DESCRIPTION:Property ID# 499518
SUMMARY:Openhome for 
END:VEVENT
END:VCALENDAR
